BEGIN:VCALENDAR
VERSION:2.0
PRODID:-//Rotary Club de Revel - ECPv6.15.13.1//NONSGML v1.0//EN
CALSCALE:GREGORIAN
METHOD:PUBLISH
X-WR-CALNAME:Rotary Club de Revel
X-ORIGINAL-URL:https://rotaryrevel.org
X-WR-CALDESC:Évènements pour Rotary Club de Revel
REFRESH-INTERVAL;VALUE=DURATION:PT1H
X-Robots-Tag:noindex
X-PUBLISHED-TTL:PT1H
BEGIN:VTIMEZONE
TZID:Europe/Paris
BEGIN:DAYLIGHT
TZOFFSETFROM:+0100
TZOFFSETTO:+0200
TZNAME:CEST
DTSTART:20250330T010000
END:DAYLIGHT
BEGIN:STANDARD
TZOFFSETFROM:+0200
TZOFFSETTO:+0100
TZNAME:CET
DTSTART:20251026T010000
END:STANDARD
BEGIN:DAYLIGHT
TZOFFSETFROM:+0100
TZOFFSETTO:+0200
TZNAME:CEST
DTSTART:20260329T010000
END:DAYLIGHT
BEGIN:STANDARD
TZOFFSETFROM:+0200
TZOFFSETTO:+0100
TZNAME:CET
DTSTART:20261025T010000
END:STANDARD
BEGIN:DAYLIGHT
TZOFFSETFROM:+0100
TZOFFSETTO:+0200
TZNAME:CEST
DTSTART:20270328T010000
END:DAYLIGHT
BEGIN:STANDARD
TZOFFSETFROM:+0200
TZOFFSETTO:+0100
TZNAME:CET
DTSTART:20271031T010000
END:STANDARD
END:VTIMEZONE
BEGIN:VEVENT
DTSTART;TZID=Europe/Paris:20260426T090000
DTEND;TZID=Europe/Paris:20260426T180000
DTSTAMP:20260424T183433
CREATED:20260310T135600Z
LAST-MODIFIED:20260413T062448Z
UID:6311-1777194000-1777226400@rotaryrevel.org
SUMMARY:Vide grenier 2026
DESCRIPTION:[vc_row][vc_column][vc_column_text] \nTéléchargez la fiche d’inscription 2026 \n  \nVous inscrire ICI sur Hello Asso \n  \n [/vc_column_text][vc_single_image image=”6313″ img_size=”” alignment=”center”][/vc_column][/vc_row]
URL:https://rotaryrevel.org/evenement/vide-grenier/
LOCATION:Salle Nougaro\, 2 Rue Padouvenc de Castres\, Revel\, 31250
CATEGORIES:Vide grenier
END:VEVENT
END:VCALENDAR